BEGIN:VCALENDAR
VERSION:2.0
PRODID:-//eventon.com NONSGML v1.0//EN
CALSCALE:GREGORIAN
METHOD:PUBLISH
BEGIN:VEVENT
UID:69ec9c65d2026
DTSTAMP:20260425T105013Z
DTSTART:20210613T090000Z
DTEND:20210613T215000Z
LOCATION:Biblioteca Municipal Casa de la Reina Carrer de la Reina\,  85\,  46011 València\,  Valencia
SUMMARY:CLUB DE LECTURA "EL HIJO DEL PADRE"
DESCRIPTION:Qui és Diego Martín? Ni tan sols ell ho sap. Un pare de famí
 lia\,  un espòs\,  un respectable professor universitari. Un dels fills de
  la immigració de l'Espanya rural a l'Espanya industrial en els anys seixa
 nta. Algú que s'ha fet a si mateix renunciant als seus orígens\,  a les s
 eues[..]\nhttps://valencianegra.com/events/club-lectura-victor-del-arbol?la
 ng=ca
URL:https://valencianegra.com/events/club-lectura-victor-del-arbol?lang=ca
END:VEVENT
END:VCALENDAR