BEGIN:VCALENDAR
VERSION:2.0
PRODID:-//eventon.com NONSGML v1.0//EN
CALSCALE:GREGORIAN
METHOD:PUBLISH
BEGIN:VEVENT
UID:69e749692543f
DTSTAMP:20260421T095449Z
DTSTART:20210612T100000Z
DTEND:20210612T215000Z
LOCATION:Biblioteca Eduard Escalante (Abastos) C/ d'Alberic\,  18 46008 València
SUMMARY:CLUB DE LECTURA "LOS BUENOS HIJOS"
DESCRIPTION:On estan els límits en una recerca? Torna la família de detec
 tives més pròxima i popular de la novel·la policíaca. Nora s'ha incorpo
 rat a l'agència de la família\,  Hernández Detectives\,  després de la 
 seua misteriosa desaparició\,  de la qual es resisteix a parlar. Mentresta
 nt\,  els Hernández continuen ocupant-se d'alguns casos[..]\nhttps://valen
 cianegra.com/events/club-de-lectura-los-buenos-hijos?lang=ca
URL:https://valencianegra.com/events/club-de-lectura-los-buenos-hijos?lang=ca
END:VEVENT
END:VCALENDAR