BEGIN:VCALENDAR
VERSION:2.0
PRODID:-//eventon.com NONSGML v1.0//EN
CALSCALE:GREGORIAN
METHOD:PUBLISH
BEGIN:VEVENT
UID:69ec96074b324
DTSTAMP:20260425T102303Z
DTSTART:20210619T100000Z
DTEND:20210619T215000Z
LOCATION:Biblioteca Municipal Joanot Martorell - Marxalenes C/ de Reus\,  s/n 46009 València
SUMMARY:CLUB DE LECTURA "BAJO LA PIEL"
DESCRIPTION:UN THRILLER TREPIDANT QUE ENS PRESENTA A UNA INSPECTORA MOLT PO
 C CONVENCIONAL\,  CAPAÇ D'ENFRONTAR-SE AL MAL EMMASCARAT EN LES MÉS DIGNE
 S INSTÀNCIES DE LA NOSTRA SOCIETAT. No és fàcil tractar amb Marcela Piel
 delobo. Nascuda a Biescas\,  un petit poble del Pirineu aragonès\,  és de
 s de fa una dècada inspectora del[..]\nhttps://valencianegra.com/events/cl
 ub-de-lectura-bajo-piel?lang=ca
URL:https://valencianegra.com/events/club-de-lectura-bajo-piel?lang=ca
END:VEVENT
END:VCALENDAR