BEGIN:VCALENDAR
VERSION:2.0
PRODID:-//eventon.com NONSGML v1.0//EN
CALSCALE:GREGORIAN
METHOD:PUBLISH
BEGIN:VEVENT
UID:69e7486f1fd38
DTSTAMP:20260421T095039Z
DTSTART:20210619T100000Z
DTEND:20210619T215000Z
LOCATION:Biblioteca Clara Santiró i Font - Sant Marcelí Carrer de Pius IX\,  2\,  46017 València\,  Valencia
SUMMARY:CLUB DE LECTURA "EL OSCURO ADIÓS DE TERESA LANZA"
DESCRIPTION:TRADUEIX Sembla un divendres d'hivern qualsevol; un de tants. L
 ourdes Ros\,  la carismàtica editora d'una prestigiosa editorial\,  es pre
 para per a rebre a les seues millors amigues\,  a les quals ha convidat a s
 opar: quatre dones triomfadores que intenten conjugar la seua reconeguda vi
 da professional amb les preocupacions derivades de[..]\nhttps://valencianeg
 ra.com/events/club-de-lectura-adios-teresa-lanza?lang=ca
URL:https://valencianegra.com/events/club-de-lectura-adios-teresa-lanza?lang=ca
END:VEVENT
END:VCALENDAR