BEGIN:VCALENDAR
VERSION:2.0
PRODID:-//eventon.com NONSGML v1.0//EN
CALSCALE:GREGORIAN
METHOD:PUBLISH
BEGIN:VEVENT
UID:69e7493140ac9
DTSTAMP:20260421T095353Z
DTSTART:20210612T180000Z
DTEND:20210612T215000Z
LOCATION:CCCC Centro del Carme Cultura ContemporÃ nia Carrer del Museu\,  2-4
SUMMARY:A LA RECERCA DE LA VERITAT
DESCRIPTION:La recerca\,  ja siga policial\,  periodÃ­stica o fins i tot hu
 mana\,  Ã©s un dels elements principals del gÃ¨nere negre. No hi ha res tan
  esquiu com la cerca de la veritat. Els nostres convidats s'afanyen a travÃ
 ©s dels seus personatges\,  a trobar moments de certesa\,  perÃ² moltes veg
 ades el que[..]\nhttps://valencianegra.com/events/a-la-recerca-de-la-verita
 t?lang=ca
URL:https://valencianegra.com/events/a-la-recerca-de-la-veritat?lang=ca
END:VEVENT
END:VCALENDAR