BEGIN:VCALENDAR
VERSION:2.0
PRODID:-//eventon.com NONSGML v1.0//EN
CALSCALE:GREGORIAN
METHOD:PUBLISH
BEGIN:VEVENT
UID:69e7490c4be9a
DTSTAMP:20260421T095316Z
DTSTART:20210612T160000Z
DTEND:20210612T215000Z
LOCATION:CCCC Centro del Carme Cultura Contemporània Carrer del Museu\,  2-4
SUMMARY:EIXIR-SE PER LA TANGENT
DESCRIPTION:Diuen que el gènere negre és una cosa molt xicoteta\,  que hi
  ha una fórmula que funciona i de la qual un no pot escapar-se. Els nostre
 s autors són la prova palpable que això és completament fals. Amb les ma
 ns plenes de llibertat i literatura\,  creen en les seues novel·les[..]\nh
 ttps://valencianegra.com/events/salirse-por-la-tangente?lang=ca
URL:https://valencianegra.com/events/salirse-por-la-tangente?lang=ca
END:VEVENT
END:VCALENDAR