BEGIN:VCALENDAR
VERSION:2.0
PRODID:-//eventon.com NONSGML v1.0//EN
CALSCALE:GREGORIAN
METHOD:PUBLISH
BEGIN:VEVENT
UID:69e7488c207f1
DTSTAMP:20260421T095108Z
DTSTART:20210611T180000Z
DTEND:20210611T215000Z
LOCATION:CCCC Centro del Carme Cultura Contemporània Carrer del Museu\,  2-4
SUMMARY:AJUSTAR COMPTES
DESCRIPTION:És un tema recurrent de la ficció criminal: mirar al passat. 
 Podem pensar en el que ens ha succeït amb nostàlgia\,  amb tristesa o fin
 s i tot amb felicitat... però hi ha històries que demanen una altra cosa.
  Així\,  els personatges que creguin els nostres autors busquen ajustar co
 mptes amb[..]\nhttps://valencianegra.com/events/ajustar-cuentas?lang=ca
URL:https://valencianegra.com/events/ajustar-cuentas?lang=ca
END:VEVENT
END:VCALENDAR