BEGIN:VCALENDAR
VERSION:2.0
PRODID:-//eventon.com NONSGML v1.0//EN
CALSCALE:GREGORIAN
METHOD:PUBLISH
BEGIN:VEVENT
UID:69e7493f22874
DTSTAMP:20260421T095407Z
DTSTART:20210611T170000Z
DTEND:20210611T215000Z
LOCATION:CCCC Centro del Carme Cultura Contemporània Carrer del Museu\,  2-4
SUMMARY:THIS IS THE REAL TRUE CRIME
DESCRIPTION:L'anomenat true crime ha patit un espectacular increment de 
 popularitat en tots els àmbits: televisió\,  no ficció documental\,  ass
 aig\,  etc. Els nostres protagonistes són possiblement alguns dels majors 
 experts en la matèria\,  des de diversos àmbits\,  i la conversa entre el
 ls promet ser apassionant.\nhttps://valencianegra.com/events/real-true-crim
 e?lang=ca
URL:https://valencianegra.com/events/real-true-crime?lang=ca
END:VEVENT
END:VCALENDAR