BEGIN:VCALENDAR
VERSION:2.0
PRODID:-//eventon.com NONSGML v1.0//EN
CALSCALE:GREGORIAN
METHOD:PUBLISH
BEGIN:VEVENT
UID:69e9fdaeb7fd5
DTSTAMP:20260423T110830Z
DTSTART:20210610T170000Z
DTEND:20210610T215000Z
LOCATION:CCCC Centro del Carme Cultura Contemporània Carrer del Museu\,  2-4
SUMMARY:AMB EL CENY TORT
DESCRIPTION:Hi ha autors que miren a la realitat amb el ceny tort. No esta
 n contents amb els carrers que trepitgen\,  encara que al mateix temps els 
 fascinen les ciutats que habiten. No són complaents\,  esbossen un somriur
 e amarg a vegades però\,  sobretot\,  omplen pàgines de novel·les que de
 vorem amb passió. Els[..]\nhttps://valencianegra.com/events/ceno-torcido?l
 ang=ca
URL:https://valencianegra.com/events/ceno-torcido?lang=ca
END:VEVENT
END:VCALENDAR