BEGIN:VCALENDAR
VERSION:2.0
PRODID:-//eventon.com NONSGML v1.0//EN
CALSCALE:GREGORIAN
METHOD:PUBLISH
BEGIN:VEVENT
UID:69e760d673111
DTSTAMP:20260421T113446Z
DTSTART:20210610T190000Z
DTEND:20210610T215000Z
LOCATION:CCCC Centro del Carme Cultura Contemporània Carrer del Museu\,  2-4
SUMMARY:PREMI FRANCISCO GONZÁLEZ LEDESMA
DESCRIPTION:Un premi que reconeix tota una trajectòria contant històries\
 ,  un reconeixement que abans han rebut Andreu Martín\,  Alicia Giménez 
 Bartlett\,  Lorenzo Silva o Paco Camarasa. Enguany\,  ho rep Juan Madrid. &
 nbsp;\nhttps://valencianegra.com/events/premio-francisco-gonzalez-ledesma21
 ?lang=ca
URL:https://valencianegra.com/events/premio-francisco-gonzalez-ledesma21?lang=ca
END:VEVENT
END:VCALENDAR