BEGIN:VCALENDAR
VERSION:2.0
PRODID:-//eventon.com NONSGML v1.0//EN
CALSCALE:GREGORIAN
METHOD:PUBLISH
BEGIN:VEVENT
UID:69e78e754ee8b
DTSTAMP:20260421T144925Z
DTSTART:20210619T190000Z
DTEND:20210619T215000Z
LOCATION:L'Iber\,  Museo de los soldaditos de plomo
SUMMARY:LLIURAMENT DE PREMIS VALÈNCIA NEGRA 2021
DESCRIPTION:Com cada any\,  lliurem els premis a les nostres tres categorie
 s: MILLOR NOVEL·LA\,  MILLOR NOVEL.LA i BEST NOVEL\,  als llibres que 
 així han sigut votats pels seguidors de València Negra.\nhttps://valencia
 negra.com/events/entrega-de-premios-valencia-negra-2021?lang=ca
URL:https://valencianegra.com/events/entrega-de-premios-valencia-negra-2021?lang=ca
END:VEVENT
END:VCALENDAR