BEGIN:VCALENDAR
VERSION:2.0
PRODID:-//eventon.com NONSGML v1.0//EN
CALSCALE:GREGORIAN
METHOD:PUBLISH
BEGIN:VEVENT
UID:69e80c8cbe5dd
DTSTAMP:20260421T234724Z
DTSTART:20201111T173000Z
DTEND:20201111T225000Z
LOCATION:Biblioteca Municipal Casa de la Reina Carrer de la Reina\,  85\,  46011 València\,  Valencia
SUMMARY:CLUB DE LECTURA "SECUNDARIES"
DESCRIPTION:La El Sergi ha matat un vell i campa estranyament tranquil amb 
 una maleta plena de bitllets. La Conxi no ha fet res i està tancada a la p
 resó procurant aprendre un nou llenguatge per no ensorrar-se. Comença la 
 història. Barcelona acaba de celebrar les Olimpíades glorioses i ara hi[.
 .]\nhttps://valencianegra.com/events/club-de-lectura-secundaries?lang=ca
URL:https://valencianegra.com/events/club-de-lectura-secundaries?lang=ca
END:VEVENT
END:VCALENDAR